BEGIN:VCALENDAR
VERSION:2.0
PRODID:-//DP Pro Event Calendar//3.2.7//EN
BEGIN:VEVENT
UID:d9d5e521-248a-4955-b69e-cbd2e180f55c
DTSTART;TZID=America/Los_Angeles:20190825T200000
DTEND;TZID=America/Los_Angeles:20190825T200000
DTSTAMP:20190530T230247Z
SUMMARY:Shrek the Musical
DESCRIPTION:
LOCATION:
URL:https://3dtheatricals.org/shrek-the-musical/
ATTACH;FMTTYPE=image/jpeg:https://3dtheatricals.org/wp-content/uploads/sites/2/2019/02/shrek-1030x410.jpg
END:VEVENT
END:VCALENDAR